Package: TSAR Version: 1.5.0 Command: E:\biocbuild\bbs-3.21-bioc\R\bin\R.exe CMD INSTALL TSAR StartedAt: 2025-02-12 16:58:55 -0500 (Wed, 12 Feb 2025) EndedAt: 2025-02-12 16:59:22 -0500 (Wed, 12 Feb 2025) EllapsedTime: 27.5 seconds RetCode: 0 Status: OK