Package: TSCAN Version: 1.45.0 Command: /Library/Frameworks/R.framework/Resources/bin/R CMD check --install=check:TSCAN.install-out.txt --library=/Library/Frameworks/R.framework/Resources/library --no-vignettes --timings TSCAN_1.45.0.tar.gz StartedAt: 2025-02-09 21:51:25 -0500 (Sun, 09 Feb 2025) EndedAt: 2025-02-09 21:52:51 -0500 (Sun, 09 Feb 2025) EllapsedTime: 86.1 seconds RetCode: 0 Status: OK CheckDir: TSCAN.Rcheck Warnings: 0