Package: TSCAN Version: 1.45.0 Command: /Library/Frameworks/R.framework/Resources/bin/R CMD INSTALL TSCAN StartedAt: 2025-02-09 15:25:28 -0500 (Sun, 09 Feb 2025) EndedAt: 2025-02-09 15:26:06 -0500 (Sun, 09 Feb 2025) EllapsedTime: 37.7 seconds RetCode: 0 Status: OK