Package: TSCAN Version: 1.45.0 Command: /home/biocbuild/bbs-3.21-bioc/R/bin/R CMD build --keep-empty-dirs --no-resave-data TSCAN StartedAt: 2025-02-09 19:40:34 -0500 (Sun, 09 Feb 2025) EndedAt: 2025-02-09 19:41:21 -0500 (Sun, 09 Feb 2025) EllapsedTime: 47.1 seconds RetCode: 0 Status: OK PackageFile: TSCAN_1.45.0.tar.gz PackageFileSize: 2.677 MiB