Package: TSCAN Version: 1.45.0 Command: /home/biocbuild/bbs-3.21-bioc/R/bin/R CMD check --install=check:TSCAN.install-out.txt --library=/home/biocbuild/bbs-3.21-bioc/R/site-library --timings TSCAN_1.45.0.tar.gz StartedAt: 2025-02-10 03:34:59 -0500 (Mon, 10 Feb 2025) EndedAt: 2025-02-10 03:38:54 -0500 (Mon, 10 Feb 2025) EllapsedTime: 235.4 seconds RetCode: 0 Status: OK CheckDir: TSCAN.Rcheck Warnings: 0