Package: TVTB Version: 1.33.0 Command: rm -rf TVTB.buildbin-libdir && mkdir TVTB.buildbin-libdir && /Users/biocbuild/BBS/utils/build-universal.sh TVTB_1.33.0.tar.gz /Library/Frameworks/R.framework/Resources/bin/R TVTB.buildbin-libdir StartedAt: 2025-02-04 22:36:02 -0500 (Tue, 04 Feb 2025) EndedAt: 2025-02-04 22:36:25 -0500 (Tue, 04 Feb 2025) EllapsedTime: 23.5 seconds RetCode: 0 Status: OK PackageFile: TVTB_1.33.0.tgz PackageFileSize: 2.758 MiB