Package: TVTB Version: 1.33.0 Command: /Library/Frameworks/R.framework/Resources/bin/R CMD check --install=check:TVTB.install-out.txt --library=/Library/Frameworks/R.framework/Resources/library --no-vignettes --timings TVTB_1.33.0.tar.gz StartedAt: 2025-02-09 21:51:39 -0500 (Sun, 09 Feb 2025) EndedAt: 2025-02-09 21:54:12 -0500 (Sun, 09 Feb 2025) EllapsedTime: 152.9 seconds RetCode: 0 Status: OK CheckDir: TVTB.Rcheck Warnings: 0