Package: TVTB Version: 1.33.0 Command: /Library/Frameworks/R.framework/Resources/bin/R CMD INSTALL TVTB StartedAt: 2025-02-04 15:17:01 -0500 (Tue, 04 Feb 2025) EndedAt: 2025-02-04 15:17:24 -0500 (Tue, 04 Feb 2025) EllapsedTime: 23.0 seconds RetCode: 0 Status: OK