Package: TargetSearch Version: 2.9.1 Command: rm -rf TargetSearch.buildbin-libdir && mkdir TargetSearch.buildbin-libdir && /Users/biocbuild/BBS/utils/build-universal.sh TargetSearch_2.9.1.tar.gz /Library/Frameworks/R.framework/Resources/bin/R TargetSearch.buildbin-libdir StartedAt: 2025-02-09 22:33:10 -0500 (Sun, 09 Feb 2025) EndedAt: 2025-02-09 22:33:15 -0500 (Sun, 09 Feb 2025) EllapsedTime: 5.2 seconds RetCode: 0 Status: OK PackageFile: TargetSearch_2.9.1.tgz PackageFileSize: 1.24 MiB