Package: TargetSearch Version: 2.9.1 Command: rm -rf TargetSearch.buildbin-libdir && mkdir TargetSearch.buildbin-libdir && /Users/biocbuild/BBS/utils/build-universal.sh TargetSearch_2.9.1.tar.gz /Library/Frameworks/R.framework/Resources/bin/R TargetSearch.buildbin-libdir StartedAt: 2025-02-13 01:02:19 -0500 (Thu, 13 Feb 2025) EndedAt: 2025-02-13 01:02:35 -0500 (Thu, 13 Feb 2025) EllapsedTime: 16.2 seconds RetCode: 0 Status: OK PackageFile: TargetSearch_2.9.1.tgz PackageFileSize: 1.238 MiB