Package: TargetSearch Version: 2.9.1 Command: /Library/Frameworks/R.framework/Resources/bin/R CMD build --keep-empty-dirs --no-resave-data TargetSearch StartedAt: 2025-02-12 18:33:17 -0500 (Wed, 12 Feb 2025) EndedAt: 2025-02-12 18:34:03 -0500 (Wed, 12 Feb 2025) EllapsedTime: 45.7 seconds RetCode: 0 Status: OK PackageFile: TargetSearch_2.9.1.tar.gz PackageFileSize: 718.7 KiB