Package: TargetSearch Version: 2.9.1 Command: chmod a+r TargetSearch -R && E:\biocbuild\bbs-3.21-bioc\R\bin\R.exe CMD build --keep-empty-dirs --no-resave-data TargetSearch StartedAt: 2025-02-09 22:02:40 -0500 (Sun, 09 Feb 2025) EndedAt: 2025-02-09 22:04:30 -0500 (Sun, 09 Feb 2025) EllapsedTime: 109.2 seconds RetCode: 0 Status: OK PackageFile: TargetSearch_2.9.1.tar.gz PackageFileSize: 720.7 KiB