Package: TargetSearch Version: 2.9.1 Command: E:\biocbuild\bbs-3.21-bioc\R\bin\R.exe CMD check --no-multiarch --install=check:TargetSearch.install-out.txt --library=E:\biocbuild\bbs-3.21-bioc\R\library --no-vignettes --timings TargetSearch_2.9.1.tar.gz StartedAt: 2025-02-13 06:17:34 -0500 (Thu, 13 Feb 2025) EndedAt: 2025-02-13 06:19:37 -0500 (Thu, 13 Feb 2025) EllapsedTime: 123.0 seconds RetCode: 0 Status: OK CheckDir: TargetSearch.Rcheck Warnings: 0