Package: TargetSearch Version: 2.9.1 Command: E:\biocbuild\bbs-3.21-bioc\R\bin\R.exe CMD INSTALL TargetSearch StartedAt: 2025-02-09 15:27:19 -0500 (Sun, 09 Feb 2025) EndedAt: 2025-02-09 15:30:18 -0500 (Sun, 09 Feb 2025) EllapsedTime: 179.7 seconds RetCode: 0 Status: OK