Package: TileDBArray Version: 1.17.0 Command: /Library/Frameworks/R.framework/Resources/bin/R CMD check --install=check:TileDBArray.install-out.txt --library=/Library/Frameworks/R.framework/Resources/library --no-vignettes --timings TileDBArray_1.17.0.tar.gz StartedAt: 2025-02-09 21:45:11 -0500 (Sun, 09 Feb 2025) EndedAt: 2025-02-09 21:46:08 -0500 (Sun, 09 Feb 2025) EllapsedTime: 57.7 seconds RetCode: 0 Status: OK CheckDir: TileDBArray.Rcheck Warnings: 0