Package: TileDBArray Version: 1.17.0 Command: rm -rf TileDBArray.buildbin-libdir && mkdir TileDBArray.buildbin-libdir && /Users/biocbuild/BBS/utils/build-universal.sh TileDBArray_1.17.0.tar.gz /Library/Frameworks/R.framework/Resources/bin/R TileDBArray.buildbin-libdir StartedAt: 2025-02-13 01:02:46 -0500 (Thu, 13 Feb 2025) EndedAt: 2025-02-13 01:03:16 -0500 (Thu, 13 Feb 2025) EllapsedTime: 30.0 seconds RetCode: 0 Status: OK PackageFile: TileDBArray_1.17.0.tgz PackageFileSize: 748.4 KiB