Package: TileDBArray Version: 1.17.0 Command: /Library/Frameworks/R.framework/Resources/bin/R CMD build --keep-empty-dirs --no-resave-data TileDBArray StartedAt: 2025-02-09 18:43:49 -0500 (Sun, 09 Feb 2025) EndedAt: 2025-02-09 18:44:25 -0500 (Sun, 09 Feb 2025) EllapsedTime: 35.4 seconds RetCode: 0 Status: OK PackageFile: TileDBArray_1.17.0.tar.gz PackageFileSize: 305 KiB