Package: TileDBArray Version: 1.17.0 Command: /Library/Frameworks/R.framework/Resources/bin/R CMD check --install=check:TileDBArray.install-out.txt --library=/Library/Frameworks/R.framework/Resources/library --no-vignettes --timings TileDBArray_1.17.0.tar.gz StartedAt: 2025-02-10 00:07:01 -0500 (Mon, 10 Feb 2025) EndedAt: 2025-02-10 00:09:49 -0500 (Mon, 10 Feb 2025) EllapsedTime: 167.5 seconds RetCode: 0 Status: OK CheckDir: TileDBArray.Rcheck Warnings: 0