Package: TileDBArray Version: 1.17.0 Command: /Library/Frameworks/R.framework/Resources/bin/R CMD INSTALL TileDBArray StartedAt: 2025-02-12 15:09:08 -0500 (Wed, 12 Feb 2025) EndedAt: 2025-02-12 15:09:32 -0500 (Wed, 12 Feb 2025) EllapsedTime: 24.6 seconds RetCode: 0 Status: OK