Package: TileDBArray Version: 1.17.0 Command: /home/biocbuild/bbs-3.21-bioc/R/bin/R CMD INSTALL TileDBArray StartedAt: 2025-02-09 15:15:49 -0500 (Sun, 09 Feb 2025) EndedAt: 2025-02-09 15:16:11 -0500 (Sun, 09 Feb 2025) EllapsedTime: 22.0 seconds RetCode: 0 Status: OK