Package: TileDBArray Version: 1.17.0 Command: rm -rf TileDBArray.buildbin-libdir && mkdir TileDBArray.buildbin-libdir && E:\biocbuild\bbs-3.21-bioc\R\bin\R.exe CMD INSTALL --build --library=TileDBArray.buildbin-libdir TileDBArray_1.17.0.tar.gz StartedAt: 2025-02-10 08:52:16 -0500 (Mon, 10 Feb 2025) EndedAt: 2025-02-10 08:52:57 -0500 (Mon, 10 Feb 2025) EllapsedTime: 40.7 seconds RetCode: 0 Status: OK PackageFile: TileDBArray_1.17.0.zip PackageFileSize: 751.4 KiB