Package: TileDBArray Version: 1.17.0 Command: chmod a+r TileDBArray -R && E:\biocbuild\bbs-3.21-bioc\R\bin\R.exe CMD build --keep-empty-dirs --no-resave-data TileDBArray StartedAt: 2025-02-09 22:06:08 -0500 (Sun, 09 Feb 2025) EndedAt: 2025-02-09 22:07:15 -0500 (Sun, 09 Feb 2025) EllapsedTime: 66.9 seconds RetCode: 0 Status: OK PackageFile: TileDBArray_1.17.0.tar.gz PackageFileSize: 305.4 KiB