Package: TileDBArray Version: 1.17.0 Command: E:\biocbuild\bbs-3.21-bioc\R\bin\R.exe CMD check --no-multiarch --install=check:TileDBArray.install-out.txt --library=E:\biocbuild\bbs-3.21-bioc\R\library --no-vignettes --timings TileDBArray_1.17.0.tar.gz StartedAt: 2025-02-10 06:11:28 -0500 (Mon, 10 Feb 2025) EndedAt: 2025-02-10 06:14:17 -0500 (Mon, 10 Feb 2025) EllapsedTime: 168.7 seconds RetCode: 0 Status: OK CheckDir: TileDBArray.Rcheck Warnings: 0