Package: TissueEnrich Version: 1.27.0 Command: /Library/Frameworks/R.framework/Resources/bin/R CMD INSTALL TissueEnrich StartedAt: 2025-02-09 15:09:50 -0500 (Sun, 09 Feb 2025) EndedAt: 2025-02-09 15:10:01 -0500 (Sun, 09 Feb 2025) EllapsedTime: 11.3 seconds RetCode: 0 Status: OK