Package: TissueEnrich Version: 1.27.0 Command: /home/biocbuild/R/R/bin/R CMD INSTALL TissueEnrich StartedAt: 2025-01-29 19:52:47 -0000 (Wed, 29 Jan 2025) EndedAt: 2025-01-29 19:53:26 -0000 (Wed, 29 Jan 2025) EllapsedTime: 38.9 seconds RetCode: 0 Status: OK