Package: TissueEnrich Version: 1.27.0 Command: /Library/Frameworks/R.framework/Resources/bin/R CMD build --keep-empty-dirs --no-resave-data TissueEnrich StartedAt: 2025-02-09 18:44:11 -0500 (Sun, 09 Feb 2025) EndedAt: 2025-02-09 18:45:07 -0500 (Sun, 09 Feb 2025) EllapsedTime: 56.0 seconds RetCode: 0 Status: OK PackageFile: TissueEnrich_1.27.0.tar.gz PackageFileSize: 3.606 MiB