Package: TissueEnrich Version: 1.27.0 Command: /home/biocbuild/bbs-3.21-bioc/R/bin/R CMD build --keep-empty-dirs --no-resave-data TissueEnrich StartedAt: 2025-02-09 19:36:52 -0500 (Sun, 09 Feb 2025) EndedAt: 2025-02-09 19:37:42 -0500 (Sun, 09 Feb 2025) EllapsedTime: 50.1 seconds RetCode: 0 Status: OK PackageFile: TissueEnrich_1.27.0.tar.gz PackageFileSize: 3.695 MiB