Package: TissueEnrich Version: 1.27.0 Command: chmod a+r TissueEnrich -R && E:\biocbuild\bbs-3.21-bioc\R\bin\R.exe CMD build --keep-empty-dirs --no-resave-data TissueEnrich StartedAt: 2025-02-12 22:14:06 -0500 (Wed, 12 Feb 2025) EndedAt: 2025-02-12 22:15:04 -0500 (Wed, 12 Feb 2025) EllapsedTime: 58.0 seconds RetCode: 0 Status: OK PackageFile: TissueEnrich_1.27.0.tar.gz PackageFileSize: 3.338 MiB