Package: TissueEnrich Version: 1.27.0 Command: E:\biocbuild\bbs-3.21-bioc\R\bin\R.exe CMD check --no-multiarch --install=check:TissueEnrich.install-out.txt --library=E:\biocbuild\bbs-3.21-bioc\R\library --no-vignettes --timings TissueEnrich_1.27.0.tar.gz StartedAt: 2025-02-13 06:24:48 -0500 (Thu, 13 Feb 2025) EndedAt: 2025-02-13 06:28:52 -0500 (Thu, 13 Feb 2025) EllapsedTime: 244.7 seconds RetCode: 0 Status: OK CheckDir: TissueEnrich.Rcheck Warnings: 0