Package: TitanCNA Version: 1.45.0 Command: /home/biocbuild/R/R/bin/R CMD INSTALL TitanCNA StartedAt: 2025-01-29 19:57:14 -0000 (Wed, 29 Jan 2025) EndedAt: 2025-01-29 19:58:14 -0000 (Wed, 29 Jan 2025) EllapsedTime: 60.5 seconds RetCode: 0 Status: OK