Package: TitanCNA Version: 1.45.0 Command: /Library/Frameworks/R.framework/Resources/bin/R CMD build --keep-empty-dirs --no-resave-data TitanCNA StartedAt: 2025-02-09 18:44:11 -0500 (Sun, 09 Feb 2025) EndedAt: 2025-02-09 18:45:36 -0500 (Sun, 09 Feb 2025) EllapsedTime: 84.6 seconds RetCode: 1 Status: ERROR PackageFile: None PackageFileSize: NA