Package: TitanCNA Version: 1.45.0 Command: /home/biocbuild/bbs-3.21-bioc/R/bin/R CMD build --keep-empty-dirs --no-resave-data TitanCNA StartedAt: 2025-02-09 19:36:54 -0500 (Sun, 09 Feb 2025) EndedAt: 2025-02-09 19:38:11 -0500 (Sun, 09 Feb 2025) EllapsedTime: 77.1 seconds RetCode: 1 Status: ERROR PackageFile: None PackageFileSize: NA