Package: TitanCNA Version: 1.45.0 Command: /home/biocbuild/bbs-3.21-bioc/R/bin/R CMD INSTALL TitanCNA StartedAt: 2025-02-09 15:44:10 -0500 (Sun, 09 Feb 2025) EndedAt: 2025-02-09 15:44:52 -0500 (Sun, 09 Feb 2025) EllapsedTime: 42.4 seconds RetCode: 0 Status: OK