Package: TitanCNA Version: 1.45.0 Command: chmod a+r TitanCNA -R && E:\biocbuild\bbs-3.21-bioc\R\bin\R.exe CMD build --keep-empty-dirs --no-resave-data TitanCNA StartedAt: 2025-02-09 22:06:44 -0500 (Sun, 09 Feb 2025) EndedAt: 2025-02-09 22:08:34 -0500 (Sun, 09 Feb 2025) EllapsedTime: 110.0 seconds RetCode: 1 Status: ERROR PackageFile: None PackageFileSize: NA