Package: TnT Version: 1.29.0 Command: rm -rf TnT.buildbin-libdir && mkdir TnT.buildbin-libdir && /Users/biocbuild/BBS/utils/build-universal.sh TnT_1.29.0.tar.gz /Library/Frameworks/R.framework/Resources/bin/R TnT.buildbin-libdir StartedAt: 2025-02-09 22:33:41 -0500 (Sun, 09 Feb 2025) EndedAt: 2025-02-09 22:33:47 -0500 (Sun, 09 Feb 2025) EllapsedTime: 6.2 seconds RetCode: 0 Status: OK PackageFile: TnT_1.29.0.tgz PackageFileSize: 530.9 KiB