Package: TnT Version: 1.29.0 Command: /Library/Frameworks/R.framework/Resources/bin/R CMD build --keep-empty-dirs --no-resave-data TnT StartedAt: 2025-02-04 17:49:35 -0500 (Tue, 04 Feb 2025) EndedAt: 2025-02-04 17:49:44 -0500 (Tue, 04 Feb 2025) EllapsedTime: 9.1 seconds RetCode: 0 Status: OK PackageFile: TnT_1.29.0.tar.gz PackageFileSize: 230.4 KiB