Package: TnT Version: 1.29.0 Command: /Library/Frameworks/R.framework/Resources/bin/R CMD INSTALL TnT StartedAt: 2025-02-09 15:14:50 -0500 (Sun, 09 Feb 2025) EndedAt: 2025-02-09 15:14:56 -0500 (Sun, 09 Feb 2025) EllapsedTime: 5.8 seconds RetCode: 0 Status: OK