Package: TnT Version: 1.29.0 Command: /home/biocbuild/R/R/bin/R CMD check --install=check:TnT.install-out.txt --library=/home/biocbuild/R/R/site-library --no-vignettes --timings TnT_1.29.0.tar.gz StartedAt: 2025-01-28 16:11:43 -0000 (Tue, 28 Jan 2025) EndedAt: 2025-01-28 16:14:54 -0000 (Tue, 28 Jan 2025) EllapsedTime: 191.3 seconds RetCode: 0 Status: OK CheckDir: TnT.Rcheck Warnings: 0