Package: TnT Version: 1.29.0 Command: rm -rf TnT.buildbin-libdir && mkdir TnT.buildbin-libdir && /Users/biocbuild/BBS/utils/build-universal.sh TnT_1.29.0.tar.gz /Library/Frameworks/R.framework/Resources/bin/R TnT.buildbin-libdir StartedAt: 2025-02-05 01:06:32 -0500 (Wed, 05 Feb 2025) EndedAt: 2025-02-05 01:06:55 -0500 (Wed, 05 Feb 2025) EllapsedTime: 22.2 seconds RetCode: 0 Status: OK PackageFile: TnT_1.29.0.tgz PackageFileSize: 530 KiB