Package: TnT Version: 1.29.0 Command: /Library/Frameworks/R.framework/Resources/bin/R CMD check --install=check:TnT.install-out.txt --library=/Library/Frameworks/R.framework/Resources/library --no-vignettes --timings TnT_1.29.0.tar.gz StartedAt: 2025-02-04 23:48:30 -0500 (Tue, 04 Feb 2025) EndedAt: 2025-02-04 23:51:31 -0500 (Tue, 04 Feb 2025) EllapsedTime: 181.5 seconds RetCode: 0 Status: OK CheckDir: TnT.Rcheck Warnings: 0