Package: TnT Version: 1.29.0 Command: /home/biocbuild/bbs-3.21-bioc/R/bin/R CMD check --install=check:TnT.install-out.txt --library=/home/biocbuild/bbs-3.21-bioc/R/site-library --timings TnT_1.29.0.tar.gz StartedAt: 2025-02-10 03:24:51 -0500 (Mon, 10 Feb 2025) EndedAt: 2025-02-10 03:26:27 -0500 (Mon, 10 Feb 2025) EllapsedTime: 96.1 seconds RetCode: 0 Status: OK CheckDir: TnT.Rcheck Warnings: 0