Package: TnT Version: 1.29.0 Command: /home/biocbuild/bbs-3.21-bioc/R/bin/R CMD INSTALL TnT StartedAt: 2025-02-09 15:15:59 -0500 (Sun, 09 Feb 2025) EndedAt: 2025-02-09 15:16:12 -0500 (Sun, 09 Feb 2025) EllapsedTime: 13.6 seconds RetCode: 0 Status: OK