Package: TnT Version: 1.29.0 Command: rm -rf TnT.buildbin-libdir && mkdir TnT.buildbin-libdir && E:\biocbuild\bbs-3.21-bioc\R\bin\R.exe CMD INSTALL --build --library=TnT.buildbin-libdir TnT_1.29.0.tar.gz StartedAt: 2025-02-05 09:06:01 -0500 (Wed, 05 Feb 2025) EndedAt: 2025-02-05 09:06:32 -0500 (Wed, 05 Feb 2025) EllapsedTime: 31.1 seconds RetCode: 0 Status: OK PackageFile: TnT_1.29.0.zip PackageFileSize: 532.6 KiB