Package: TnT Version: 1.29.0 Command: chmod a+r TnT -R && E:\biocbuild\bbs-3.21-bioc\R\bin\R.exe CMD build --keep-empty-dirs --no-resave-data TnT StartedAt: 2025-02-04 22:09:32 -0500 (Tue, 04 Feb 2025) EndedAt: 2025-02-04 22:10:10 -0500 (Tue, 04 Feb 2025) EllapsedTime: 37.6 seconds RetCode: 0 Status: OK PackageFile: TnT_1.29.0.tar.gz PackageFileSize: 230.9 KiB