Package: TnT Version: 1.29.0 Command: E:\biocbuild\bbs-3.21-bioc\R\bin\R.exe CMD check --no-multiarch --install=check:TnT.install-out.txt --library=E:\biocbuild\bbs-3.21-bioc\R\library --no-vignettes --timings TnT_1.29.0.tar.gz StartedAt: 2025-02-05 06:37:57 -0500 (Wed, 05 Feb 2025) EndedAt: 2025-02-05 06:39:51 -0500 (Wed, 05 Feb 2025) EllapsedTime: 114.6 seconds RetCode: 0 Status: OK CheckDir: TnT.Rcheck Warnings: 0