Package: TnT Version: 1.29.0 Command: E:\biocbuild\bbs-3.21-bioc\R\bin\R.exe CMD INSTALL TnT StartedAt: 2025-02-04 15:37:26 -0500 (Tue, 04 Feb 2025) EndedAt: 2025-02-04 15:37:56 -0500 (Tue, 04 Feb 2025) EllapsedTime: 30.1 seconds RetCode: 0 Status: OK