Package: ToxicoGx Version: 2.11.0 Command: /Library/Frameworks/R.framework/Resources/bin/R CMD build --keep-empty-dirs --no-resave-data ToxicoGx StartedAt: 2025-02-04 18:36:11 -0500 (Tue, 04 Feb 2025) EndedAt: 2025-02-04 18:37:08 -0500 (Tue, 04 Feb 2025) EllapsedTime: 57.1 seconds RetCode: 0 Status: OK PackageFile: ToxicoGx_2.11.0.tar.gz PackageFileSize: 3.936 MiB