Package: ToxicoGx Version: 2.11.0 Command: /Library/Frameworks/R.framework/Resources/bin/R CMD INSTALL ToxicoGx StartedAt: 2025-02-04 15:33:39 -0500 (Tue, 04 Feb 2025) EndedAt: 2025-02-04 15:34:27 -0500 (Tue, 04 Feb 2025) EllapsedTime: 47.9 seconds RetCode: 0 Status: OK