Package: ToxicoGx Version: 2.11.0 Command: /home/biocbuild/bbs-3.21-bioc/R/bin/R CMD build --keep-empty-dirs --no-resave-data ToxicoGx StartedAt: 2025-02-04 19:35:19 -0500 (Tue, 04 Feb 2025) EndedAt: 2025-02-04 19:36:08 -0500 (Tue, 04 Feb 2025) EllapsedTime: 49.1 seconds RetCode: 0 Status: OK PackageFile: ToxicoGx_2.11.0.tar.gz PackageFileSize: 3.929 MiB