Package: ToxicoGx Version: 2.11.0 Command: /home/biocbuild/bbs-3.21-bioc/R/bin/R CMD check --install=check:ToxicoGx.install-out.txt --library=/home/biocbuild/bbs-3.21-bioc/R/site-library --timings ToxicoGx_2.11.0.tar.gz StartedAt: 2025-02-05 03:33:09 -0500 (Wed, 05 Feb 2025) EndedAt: 2025-02-05 03:37:49 -0500 (Wed, 05 Feb 2025) EllapsedTime: 280.4 seconds RetCode: 0 Status: OK CheckDir: ToxicoGx.Rcheck Warnings: 0